BEGIN:VCALENDAR
VERSION:2.0
METHOD:PUBLISH
PRODID:-//Accessible Web Design//My Calendar//http://www.joedolson.com//v//EN';
BEGIN:VEVENT
UID:28-27
LOCATION:
SUMMARY:Presentación Bailes Típicos
DTSTAMP:20230915
ORGANIZER;CN=Escuela Sendas de Chiguayante:MAILTO:contacto@escueladelenguajesendasdechiguayante.cl
DTSTART:20230915
DTEND:20230916
CATEGORIES:Celebraciones
URL;VALUE=URI:https://escueladelenguajesendasdechiguayante.cl/mc-events/presentacion-bailes-tipicos/?mc_id=28
DESCRIPTION;ENCODING=QUOTED-PRINTABLE:
X-FUNAMBOL-ALLDAY: 1
X-MICROSOFT-CDO-ALLDAYEVENT: TRUE

END:VEVENT
END:VCALENDAR